BEGIN:VCALENDAR
VERSION:2.0
PRODID:-//Tukios.com/
BEGIN:VEVENT
UID:5b372793-2e7a-4e72-bb57-c862809341e5@www.gracefuneralhome.org
DTSTAMP:20260421T184805Z
DTSTART:20260425T150000Z
DTEND:20260425T160000Z
SUMMARY:Visitation
DESCRIPTION:
URL:https://www.gracefuneralhome.org/obituaries/doris-smith
LOCATION:New Guide Missionary Baptist 3521 Dennis St  Houston TX 77004
GEO:29.7317921;-95.3478826
END:VEVENT
END:VCALENDAR