BEGIN:VCALENDAR
VERSION:2.0
PRODID:-//Tukios.com/
BEGIN:VEVENT
UID:261f1710-ea16-4798-a7c8-09fa6b0cefd9@www.gracefuneralhome.org
DTSTAMP:20260419T175811Z
DTSTART:20260417T003000Z
DTEND:20260417T013000Z
SUMMARY:Prayer Service
DESCRIPTION:
URL:https://www.gracefuneralhome.org/obituaries/arlet-juarez
LOCATION: 4910 Willowbend Blvd Suite E  Houston TX 77035
GEO:29.6645046;-95.4648951
END:VEVENT
END:VCALENDAR